BEGIN:VCALENDAR
PRODID:-//zoom.us//iCalendar Event//EN
VERSION:2.0
CALSCALE:GREGORIAN
METHOD:PUBLISH
CLASS:PUBLIC
BEGIN:VTIMEZONE
TZID:America/New_York
LAST-MODIFIED:20260306T231828Z
TZURL:https://www.tzurl.org/zoneinfo-outlook/America/New_York
X-LIC-LOCATION:America/New_York
BEGIN:DAYLIGHT
TZNAME:EDT
TZOFFSETFROM:-0500
TZOFFSETTO:-0400
DTSTART:19700308T020000
RRULE:FREQ=YEARLY;BYMONTH=3;BYDAY=2SU
END:DAYLIGHT
BEGIN:STANDARD
TZNAME:EST
TZOFFSETFROM:-0400
TZOFFSETTO:-0500
DTSTART:19701101T020000
RRULE:FREQ=YEARLY;BYMONTH=11;BYDAY=1SU
END:STANDARD
END:VTIMEZONE
BEGIN:VEVENT
DTSTAMP:20260407T150103Z
DTSTART;TZID=America/New_York:20260506T090000
DTEND;TZID=America/New_York:20260506T120000
SUMMARY:ASCE Infrastructure Innovation Forum
UID:20260407T150103Z-95168554015@web-prod-us01-va1-webok-5d47d7d856-nzjz5
 
TZID:America/New_York
DESCRIPTION:Topic: ASCE Infrastructure Innovation Forum\nDescription: Joi
 n the American Society of Civil Engineers (ASCE) on May 6 to learn and e
 ngage on innovations shaping infrastructure and delivering results.\n \n
 Highlighting recommendations from ASCE's 2025 Report Card for America's 
 Infrastructure\, the event will showcase leading engagement on the infra
 structure workforce\, effective approaches to water efficiency and deliv
 ery\, and meaningful strategies in disaster response. \n\nJoin from PC\,
  Mac\, iPad\, or Android:\nhttps://zoom.us/j/95168554015?pwd=N1atWYTx7jF
 R6yo231WCmOibaDjGfT.1\nPasscode:604118\n\nPhone one-tap:\n+12532158782\,
 \,95168554015#\,\,\,\,*604118# US (Tacoma)\n+12532050468\,\,95168554015#
 \,\,\,\,*604118# US\n\nJoin via audio:\n+1 253 215 8782 US (Tacoma)\n+1 
 253 205 0468 US\n+1 669 444 9171 US\n+1 669 900 9128 US (San Jose)\n+1 7
 19 359 4580 US\n+1 346 248 7799 US (Houston)\n+1 360 209 5623 US\n+1 386
  347 5053 US\n+1 507 473 4847 US\n+1 564 217 2000 US\n+1 646 558 8656 US
  (New York)\n+1 646 931 3860 US\n+1 689 278 1000 US\n+1 301 715 8592 US 
 (Washington DC)\n+1 305 224 1968 US\n+1 309 205 3325 US\n+1 312 626 6799
  US (Chicago)\nWebinar ID: 951 6855 4015\nPasscode: 604118\nInternationa
 l numbers available: https://zoom.us/u/amfWtELgD\n\n\n
LOCATION:https://zoom.us/j/95168554015?pwd=N1atWYTx7jFR6yo231WCmOibaDjGfT
 .1
BEGIN:VALARM
TRIGGER:-PT10M
ACTION:DISPLAY
DESCRIPTION:Reminder
END:VALARM
END:VEVENT
END:VCALENDAR
