BEGIN:VCALENDAR
PRODID:-//Microsoft Corporation//Outlook 16.0 MIMEDIR//EN
VERSION:2.0
METHOD:PUBLISH
X-MS-OLK-FORCEINSPECTOROPEN:TRUE
BEGIN:VTIMEZONE
TZID:Eastern Standard Time
BEGIN:STANDARD
DTSTART:16011104T020000
RRULE:FREQ=YEARLY;BYDAY=1SU;BYMONTH=11
TZOFFSETFROM:-0400
TZOFFSETTO:-0500
END:STANDARD
BEGIN:DAYLIGHT
DTSTART:16010311T020000
RRULE:FREQ=YEARLY;BYDAY=2SU;BYMONTH=3
TZOFFSETFROM:-0500
TZOFFSETTO:-0400
END:DAYLIGHT
END:VTIMEZONE
BEGIN:VEVENT
CLASS:PUBLIC
CREATED:20260416T155342Z
DESCRIPTION:Information about this event is available here: https://infrast
	ructurereportcard.org/asce-innovation-forum-infrastructure-innovation-poli
	cy-2026/
DTEND;TZID="Eastern Standard Time":20260506T120500
DTSTAMP:20260407T192212Z
DTSTART;TZID="Eastern Standard Time":20260506T081500
LAST-MODIFIED:20260416T155342Z
LOCATION:301 Water St. SE\, Washington\, DC\, 20003
PRIORITY:5
SEQUENCE:0
SUMMARY;LANGUAGE=en-us:ASCE Infrastructure Innovation Forum - In Person
TRANSP:OPAQUE
UID:2359
X-ALT-DESC;FMTTYPE=text/html:<!DOCTYPE HTML PUBLIC "-//W3C//DTD HTML 3.2//E
	N">\n<HTML>\n<HEAD>\n<META NAME="Generator" CONTENT="MS Exchange Server ve
	rsion 16.0.19822.20086">\n<TITLE></TITLE>\n</HEAD>\n<BODY>\n<!-- Converted
	 from text/plain format -->\n\n<P><FONT SIZE=2>Information about this even
	t is available here: <A HREF="https://infrastructurereportcard.org/asce-in
	novation-forum-infrastructure-innovation-policy-2026/">https://infrastruct
	urereportcard.org/asce-innovation-forum-infrastructure-innovation-policy-2
	026/</A></FONT></P>\n\n</BODY>\n</HTML>
X-MICROSOFT-CDO-BUSYSTATUS:BUSY
X-MICROSOFT-CDO-IMPORTANCE:1
END:VEVENT
END:VCALENDAR
